﻿BEGIN:VCALENDAR
VERSION:2.0
PRODID:-//Cybersecurity Awareness - ECPv5.3.2.1//NONSGML v1.0//EN
CALSCALE:GREGORIAN
METHOD:PUBLISH
X-WR-CALNAME:Cybersecurity Awareness
X-ORIGINAL-URL:https://cybersecurity.idaho.gov
X-WR-CALDESC:Events for Cybersecurity Awareness
BEGIN:VTIMEZONE
TZID:America/Boise
BEGIN:DAYLIGHT
TZOFFSETFROM:-0700
TZOFFSETTO:-0600
TZNAME:MDT
DTSTART:20200308T090000
END:DAYLIGHT
BEGIN:STANDARD
TZOFFSETFROM:-0600
TZOFFSETTO:-0700
TZNAME:MST
DTSTART:20201101T080000
END:STANDARD
BEGIN:DAYLIGHT
TZOFFSETFROM:-0700
TZOFFSETTO:-0600
TZNAME:MDT
DTSTART:20210314T090000
END:DAYLIGHT
BEGIN:STANDARD
TZOFFSETFROM:-0600
TZOFFSETTO:-0700
TZNAME:MST
DTSTART:20211107T080000
END:STANDARD
END:VTIMEZONE
BEGIN:VEVENT
DTSTART;VALUE=DATE:20201225
DTEND;VALUE=DATE:20201226
DTSTAMP:20210621T100208
CREATED:20201119T214348Z
LAST-MODIFIED:20201119T214827Z
UID:49596-1608854400-1608940799@cybersecurity.idaho.gov
SUMMARY:Christmas Day (closed)
DESCRIPTION:State holiday observed and we will be closed.
URL:https://cybersecurity.idaho.gov/event/christmas-closed/2020-12-25/
END:VEVENT
BEGIN:VEVENT
DTSTART;VALUE=DATE:20210101
DTEND;VALUE=DATE:20210102
DTSTAMP:20210621T100208
CREATED:20201119T214537Z
LAST-MODIFIED:20201119T214739Z
UID:49598-1609459200-1609545599@cybersecurity.idaho.gov
SUMMARY:New Year's Day (closed)
DESCRIPTION:State holiday observed and we will be closed
URL:https://cybersecurity.idaho.gov/event/new-years-day-closed/2021-01-01/
END:VEVENT
END:VCALENDAR