﻿BEGIN:VCALENDAR
VERSION:2.0
PRODID:-//Cybersecurity Awareness - ECPv5.3.2.1//NONSGML v1.0//EN
CALSCALE:GREGORIAN
METHOD:PUBLISH
X-WR-CALNAME:Cybersecurity Awareness
X-ORIGINAL-URL:https://cybersecurity.idaho.gov
X-WR-CALDESC:Events for Cybersecurity Awareness
BEGIN:VTIMEZONE
TZID:America/Boise
BEGIN:DAYLIGHT
TZOFFSETFROM:-0700
TZOFFSETTO:-0600
TZNAME:MDT
DTSTART:20190310T090000
END:DAYLIGHT
BEGIN:STANDARD
TZOFFSETFROM:-0600
TZOFFSETTO:-0700
TZNAME:MST
DTSTART:20191103T080000
END:STANDARD
END:VTIMEZONE
BEGIN:VEVENT
DTSTART;TZID=America/Boise:20191102T090000
DTEND;TZID=America/Boise:20191102T170000
DTSTAMP:20211021T104609
CREATED:20190924T135357Z
LAST-MODIFIED:20190924T140059Z
UID:13826-1572685200-1572714000@cybersecurity.idaho.gov
SUMMARY:BSides Boise
DESCRIPTION:BSidesBoise is a volunteer run security conference focusing on the efforts of individual contributors and independent researchers. We’re excited to be embarking on our fifth year. We are at a new location this year in downtown Boise and are bigger and better than ever! We look forward to having you attend.
URL:https://cybersecurity.idaho.gov/event/bsides-boise/2019-11-02/
LOCATION:Boise State University Computer Science Building (The Grove)\, 777 W Main St\, Boise\, ID\, 83702\, United States
END:VEVENT
END:VCALENDAR